BEGIN:VCALENDAR
VERSION:2.0
PRODID:-//www.fumcr.com//NONSGML volunteer_focus-calendar-event//EN
METHOD:PUBLISH
BEGIN:VEVENT
UID:2011380727963
DTSTAMP:20131001T183000
DTSTART:20131001T183000
DTEND:20131001T210000
LOCATION:Bartula Family Life Center
SUMMARY:FUMCR Fall Sports Night
DESCRIPTION:
END:VEVENT
END:VCALENDAR