BEGIN:VCALENDAR
VERSION:2.0
PRODID:-//www.fumcr.com//NONSGML volunteer_focus-calendar-event//EN
METHOD:PUBLISH
BEGIN:VEVENT
UID:2211386014473
DTSTAMP:20131208T190000
DTSTART:20131208T190000
DTEND:20131208T200000
LOCATION:Bartula Family Life Center
SUMMARY:Childrens Choir Christmas Musical
DESCRIPTION:
END:VEVENT
END:VCALENDAR