BEGIN:VCALENDAR
VERSION:2.0
PRODID:-//www.fumcr.com//NONSGML volunteer_focus-calendar-event//EN
METHOD:PUBLISH
BEGIN:VEVENT
UID:2291390405676
DTSTAMP:20140209T081500
DTSTART:20140209T081500
DTEND:20140209T123000
LOCATION:Bartula Family Life Center
SUMMARY:Noon Communion Service
DESCRIPTION:
END:VEVENT
END:VCALENDAR