BEGIN:VCALENDAR
VERSION:2.0
PRODID:-//www.fumcr.com//NONSGML volunteer_focus-calendar-event//EN
METHOD:PUBLISH
BEGIN:VEVENT
UID:2671402513848
DTSTAMP:20140714T080000
DTSTART:20140714T080000
DTEND:20140714T110000
LOCATION:Oliphint Field
SUMMARY:Flag Football Camp
DESCRIPTION:
RRULE:FREQ=DAILY;COUNT=4
END:VEVENT
END:VCALENDAR