BEGIN:VCALENDAR
VERSION:2.0
PRODID:-//www.fumcr.com//NONSGML volunteer_focus-calendar-event//EN
METHOD:PUBLISH
BEGIN:VEVENT
UID:2991414772086
DTSTAMP:20141114T170000
DTSTART:20141114T170000
DTEND:20141114T210000
LOCATION:BFLC gym
SUMMARY:International Christmas Market
DESCRIPTION:
END:VEVENT
END:VCALENDAR