BEGIN:VCALENDAR
VERSION:2.0
PRODID:-//www.fumcr.com//NONSGML volunteer_focus-calendar-event//EN
METHOD:PUBLISH
BEGIN:VEVENT
UID:301352244871
DTSTAMP:20121110T100000
DTSTART:20121110T100000
DTEND:20121110T160000
LOCATION:FUMCR - Bartula Family Life Center
SUMMARY:International Christmas Market
DESCRIPTION:
END:VEVENT
END:VCALENDAR