BEGIN:VCALENDAR
VERSION:2.0
PRODID:-//www.fumcr.com//NONSGML volunteer_focus-calendar-event//EN
METHOD:PUBLISH
BEGIN:VEVENT
UID:3121418095903
DTSTAMP:20141229T090000
DTSTART:20141229T090000
DTEND:20141230T153000
LOCATION:BFLC gym
SUMMARY:Holiday Sports Camps
DESCRIPTION:
END:VEVENT
END:VCALENDAR