BEGIN:VCALENDAR
VERSION:2.0
PRODID:-//www.fumcr.com//NONSGML volunteer_focus-calendar-event//EN
METHOD:PUBLISH
BEGIN:VEVENT
UID:351354593527
DTSTAMP:20121216T094500
DTSTART:20121216T094500
DTEND:20121216T110000
LOCATION:FUMCR - Sanctuary
SUMMARY:Totebags for Homeless – Return to Worship Service
DESCRIPTION:
END:VEVENT
END:VCALENDAR