BEGIN:VCALENDAR
VERSION:2.0
PRODID:-//www.fumcr.com//NONSGML volunteer_focus-calendar-event//EN
METHOD:PUBLISH
BEGIN:VEVENT
UID:3791433867366
DTSTAMP:20150623T093000
DTSTART:20150623T093000
DTEND:20150623T120000
LOCATION:BFLC gym
SUMMARY:Kid's Basketball Camp - Session 1
DESCRIPTION:
END:VEVENT
END:VCALENDAR