BEGIN:VCALENDAR
VERSION:2.0
PRODID:-//www.fumcr.com//NONSGML volunteer_focus-calendar-event//EN
METHOD:PUBLISH
BEGIN:VEVENT
UID:3921437512701
DTSTAMP:20150723T093000
DTSTART:20150723T093000
DTEND:20150723T120000
LOCATION:BFLC gym
SUMMARY:Kid's Basketball Camp - Session 2
DESCRIPTION:
END:VEVENT
END:VCALENDAR