BEGIN:VCALENDAR
VERSION:2.0
PRODID:-//www.fumcr.com//NONSGML volunteer_focus-calendar-event//EN
METHOD:PUBLISH
BEGIN:VEVENT
UID:3941437512807
DTSTAMP:20150722T093000
DTSTART:20150722T093000
DTEND:20150722T120000
LOCATION:BFLC gym
SUMMARY:Kid's Dance Camp
DESCRIPTION:
END:VEVENT
END:VCALENDAR