BEGIN:VCALENDAR
VERSION:2.0
PRODID:-//www.fumcr.com//NONSGML volunteer_focus-calendar-event//EN
METHOD:PUBLISH
BEGIN:VEVENT
UID:4231438030223
DTSTAMP:20150811T120000
DTSTART:20150811T120000
DTEND:20150811T140000
LOCATION:BFLC gym
SUMMARY:United Methodist Women Project Party
DESCRIPTION:
END:VEVENT
END:VCALENDAR