BEGIN:VCALENDAR
VERSION:2.0
PRODID:-//www.fumcr.com//NONSGML volunteer_focus-calendar-event//EN
METHOD:PUBLISH
BEGIN:VEVENT
UID:4451441828683
DTSTAMP:20151001T093000
DTSTART:20151001T093000
DTEND:20151001T160000
LOCATION:BFLC gym
SUMMARY:Construction Photos!!
DESCRIPTION:
END:VEVENT
END:VCALENDAR