BEGIN:VCALENDAR
VERSION:2.0
PRODID:-//www.fumcr.com//NONSGML volunteer_focus-calendar-event//EN
METHOD:PUBLISH
BEGIN:VEVENT
UID:4821451942974
DTSTAMP:20160114T093000
DTSTART:20160114T093000
DTEND:20160114T160000
LOCATION:BFLC gym
SUMMARY:Construction Photos!!
DESCRIPTION:
END:VEVENT
END:VCALENDAR