BEGIN:VCALENDAR
VERSION:2.0
PRODID:-//www.fumcr.com//NONSGML volunteer_focus-calendar-event//EN
METHOD:PUBLISH
BEGIN:VEVENT
UID:5651470848030
DTSTAMP:20160911T160000
DTSTART:20160911T160000
DTEND:20160911T170000
LOCATION:
SUMMARY:Children's Choir & Handbells Kickoff
DESCRIPTION:
END:VEVENT
END:VCALENDAR