BEGIN:VCALENDAR
VERSION:2.0
PRODID:-//www.fumcr.com//NONSGML volunteer_focus-calendar-event//EN
METHOD:PUBLISH
BEGIN:VEVENT
UID:611361315741
DTSTAMP:20130219T190000
DTSTART:20130219T190000
DTEND:20130219T200000
LOCATION:Rm 205
SUMMARY:FOCUS General Meeting
DESCRIPTION:
END:VEVENT
END:VCALENDAR