BEGIN:VCALENDAR
VERSION:2.0
PRODID:-//www.fumcr.com//NONSGML volunteer_focus-calendar-event//EN
METHOD:PUBLISH
BEGIN:VEVENT
UID:741364058806
DTSTAMP:20130406T072000
DTSTART:20130406T072000
DTEND:20130406T123000
LOCATION:
SUMMARY:Habitat for Humanity Build
DESCRIPTION:
END:VEVENT
END:VCALENDAR